BEGIN:VCALENDAR
VERSION:2.0
PRODID:-//Editorial UPC - ECPv5.16.2.1//NONSGML v1.0//EN
CALSCALE:GREGORIAN
METHOD:PUBLISH
X-WR-CALNAME:Editorial UPC
X-ORIGINAL-URL:https://upc.admin.simeh.co
X-WR-CALDESC:Eventos para Editorial UPC
BEGIN:VTIMEZONE
TZID:America/New_York
BEGIN:DAYLIGHT
TZOFFSETFROM:-0500
TZOFFSETTO:-0400
TZNAME:EDT
DTSTART:20200308T070000
END:DAYLIGHT
BEGIN:STANDARD
TZOFFSETFROM:-0400
TZOFFSETTO:-0500
TZNAME:EST
DTSTART:20201101T060000
END:STANDARD
END:VTIMEZONE
BEGIN:VEVENT
DTSTART;TZID=America/New_York:20200730T173000
DTEND;TZID=America/New_York:20200730T180000
DTSTAMP:20260419T084708
CREATED:20200710T222349Z
LAST-MODIFIED:20200723T001738Z
UID:4805-1596130200-1596132000@upc.admin.simeh.co
SUMMARY:¿Qué viene después? Cómo recuperarnos emocionalmente del confinamiento
DESCRIPTION:Participa y disuelve tus dudas. Acompáñanos este jueves 30 de julio a partir de las 5:30 p.m. en “Conversando con autores”. \nMás información aquí: https://upc.admin.simeh.co/2020/07/10/que-viene-despues/
URL:https://upc.admin.simeh.co/evento/que-viene-despues-como-recuperarnos-emocionalmente-del-confinamiento/
LOCATION:Yo me quedo en casa
CATEGORIES:Conversatorio,En VIVO
ATTACH;FMTTYPE=image/png:https://upc.admin.simeh.co/wp-content/uploads/2020/07/PortadaFB-Que-viene-después-2.png
ORGANIZER;CN="Editorial%20UPC":MAILTO:editorial@upc.edu.pe
END:VEVENT
END:VCALENDAR