BEGIN:VCALENDAR
VERSION:2.0
PRODID:-//Editorial UPC - ECPv5.16.2.1//NONSGML v1.0//EN
CALSCALE:GREGORIAN
METHOD:PUBLISH
X-WR-CALNAME:Editorial UPC
X-ORIGINAL-URL:https://upc.admin.simeh.co
X-WR-CALDESC:Eventos para Editorial UPC
BEGIN:VTIMEZONE
TZID:America/New_York
BEGIN:DAYLIGHT
TZOFFSETFROM:-0500
TZOFFSETTO:-0400
TZNAME:EDT
DTSTART:20240310T070000
END:DAYLIGHT
BEGIN:STANDARD
TZOFFSETFROM:-0400
TZOFFSETTO:-0500
TZNAME:EST
DTSTART:20241103T060000
END:STANDARD
END:VTIMEZONE
BEGIN:VEVENT
DTSTART;TZID=America/New_York:20241126T190000
DTEND;TZID=America/New_York:20241126T200000
DTSTAMP:20260419T084608
CREATED:20241107T195148Z
LAST-MODIFIED:20241111T140427Z
UID:9650-1732647600-1732651200@upc.admin.simeh.co
SUMMARY:PRESENTACIÓN DE LIBRO: PERUANOS EJEMPLARES DEL SIGLO XX
DESCRIPTION:  \n¡Conoce a los peruanos que marcaron el siglo XX y transformaron nuestra historia! \nAcompáñanos a la presentación de Peruanos Ejemplares del Siglo XX\, un libro que nos invita a redescubrir el legado de aquellos peruanos ilustres que\, con sus ideas y acciones\, impulsaron la construcción de un Perú más libre y próspero. Este valioso proyecto\, bajo la dirección de Pedro Cateriano Bellido y coeditado por Editorial UPC y Editorial Planeta\, reúne las historias de visionarios como Julio C. Tello\, César Vallejo\, Blanca Varela\, Fernando Belaunde Terry\, y muchos más. \nFecha: Martes 26 de noviembre\nHora: 7:00 pm\nLugar: Auditorio Luis Bustamante – UPC Campus San Isisdro \nParticipan:\n*Pedro Cateriano\n*Rosa María Palacios\n*Mauricio Novoa \nInscríbete y conoce la historia de los ilustres peruanos que transformaron al Perú del siglo XX. \nConfirma tu asistencia\n  \n 
URL:https://upc.admin.simeh.co/evento/presentacion-de-libro-peruanos-ejemplares-del-siglo-xx/
CATEGORIES:Presentación de libro
ATTACH;FMTTYPE=image/png:https://upc.admin.simeh.co/wp-content/uploads/2024/11/YT.png
END:VEVENT
END:VCALENDAR