BEGIN:VCALENDAR
VERSION:2.0
PRODID:-//Editorial UPC - ECPv5.16.2.1//NONSGML v1.0//EN
CALSCALE:GREGORIAN
METHOD:PUBLISH
X-WR-CALNAME:Editorial UPC
X-ORIGINAL-URL:https://upc.admin.simeh.co
X-WR-CALDESC:Eventos para Editorial UPC
BEGIN:VTIMEZONE
TZID:America/New_York
BEGIN:DAYLIGHT
TZOFFSETFROM:-0500
TZOFFSETTO:-0400
TZNAME:EDT
DTSTART:20210314T070000
END:DAYLIGHT
BEGIN:STANDARD
TZOFFSETFROM:-0400
TZOFFSETTO:-0500
TZNAME:EST
DTSTART:20211107T060000
END:STANDARD
END:VTIMEZONE
BEGIN:VEVENT
DTSTART;TZID=America/New_York:20210416T130000
DTEND;TZID=America/New_York:20210416T140000
DTSTAMP:20260419T083233
CREATED:20210317T175018Z
LAST-MODIFIED:20210414T031524Z
UID:5846-1618578000-1618581600@upc.admin.simeh.co
SUMMARY:Presentación de libro: Juegos políticos [EN VIVO]
DESCRIPTION:Regístrate en el formulario y participa en la transmisión en vivo. \nConfirma tu asistencia\nEditorial UPC tiene el agrado de presentar el libro: «Juegos políticos. El deporte y las pugnas que mueven el mundo»\, Una publicación que consta de dos tomos\, donde se analiza ese lado oculto del deporte a partir de sucesos históricos\, culturales y sociales que impactaron en el planeta. \nParticipantes:\n• Autores: Sharún Gonzáles y Ariel Segal\n• Comentaristas invitados: Noelia Chávez y Hugo Ñopo\n• Moderador: Jorge Illa \n  \nMás información sobre los libros: \n\n\n\nTomo I:\nTomo II:\n\n\n\n\n\n\n\n 
URL:https://upc.admin.simeh.co/evento/presentacion-de-libro-juegos-politicos/
CATEGORIES:En VIVO,Presentación de libro
ATTACH;FMTTYPE=image/png:https://upc.admin.simeh.co/wp-content/uploads/2021/03/PL-Post-2021-juegos-politicos3.png
ORGANIZER;CN="Editorial%20UPC":MAILTO:editorial@upc.edu.pe
END:VEVENT
END:VCALENDAR