BEGIN:VCALENDAR
VERSION:2.0
PRODID:-//Editorial UPC - ECPv5.16.2.1//NONSGML v1.0//EN
CALSCALE:GREGORIAN
METHOD:PUBLISH
X-WR-CALNAME:Editorial UPC
X-ORIGINAL-URL:https://upc.admin.simeh.co
X-WR-CALDESC:Eventos para Editorial UPC
BEGIN:VTIMEZONE
TZID:America/New_York
BEGIN:DAYLIGHT
TZOFFSETFROM:-0500
TZOFFSETTO:-0400
TZNAME:EDT
DTSTART:20200308T070000
END:DAYLIGHT
BEGIN:STANDARD
TZOFFSETFROM:-0400
TZOFFSETTO:-0500
TZNAME:EST
DTSTART:20201101T060000
END:STANDARD
END:VTIMEZONE
BEGIN:VEVENT
DTSTART;TZID=America/New_York:20200821T140000
DTEND;TZID=America/New_York:20200821T150000
DTSTAMP:20260419T100313
CREATED:20200723T003433Z
LAST-MODIFIED:20200816T072636Z
UID:4832-1598018400-1598022000@upc.admin.simeh.co
SUMMARY:Presentación de libro: “El Perú Ilustrado” (EN VIVO)
DESCRIPTION:Acompáñanos este viernes 21 de agosto a las 2:00 p.m. en “Viernes Cultural”. \nMás información aquí: https://upc.admin.simeh.co/2020/07/17/presentacion-de-libro-peru-ilustrado/
URL:https://upc.admin.simeh.co/evento/presentacion-de-libro-el-peru-ilustrado-en-vivo/
LOCATION:Viernes Cultural\, Perú
CATEGORIES:En VIVO,Presentación de libro
ATTACH;FMTTYPE=image/png:https://upc.admin.simeh.co/wp-content/uploads/2020/07/PL-El-Perú-Ilustrado.png
ORGANIZER;CN="Editorial%20UPC":MAILTO:editorial@upc.edu.pe
END:VEVENT
END:VCALENDAR