BEGIN:VCALENDAR
VERSION:2.0
PRODID:-//Editorial UPC - ECPv5.16.2.1//NONSGML v1.0//EN
CALSCALE:GREGORIAN
METHOD:PUBLISH
X-WR-CALNAME:Editorial UPC
X-ORIGINAL-URL:https://upc.admin.simeh.co
X-WR-CALDESC:Eventos para Editorial UPC
BEGIN:VTIMEZONE
TZID:America/New_York
BEGIN:DAYLIGHT
TZOFFSETFROM:-0500
TZOFFSETTO:-0400
TZNAME:EDT
DTSTART:20210314T070000
END:DAYLIGHT
BEGIN:STANDARD
TZOFFSETFROM:-0400
TZOFFSETTO:-0500
TZNAME:EST
DTSTART:20211107T060000
END:STANDARD
END:VTIMEZONE
BEGIN:VEVENT
DTSTART;TZID=America/New_York:20210930T160000
DTEND;TZID=America/New_York:20210930T170000
DTSTAMP:20260419T100326
CREATED:20210914T231212Z
LAST-MODIFIED:20210925T001332Z
UID:6535-1633017600-1633021200@upc.admin.simeh.co
SUMMARY:Presentación del libro: La evolución de la narrativa audiovisual [EN VIVO]
DESCRIPTION:Regístrate en el formulario para acceder al evento vía Zoom. \nConfirma tu asistencia\nLa evolución de la narrativa audiovisual. Analógica\, transmedia y social media de Gerardo Karbaum propone una revisión de cómo ha evolucionado la narrativa audiovisual a través de esos tres periodos\, con la finalidad de responder las grandes preguntas que surgen en torno al futuro. ¿Qué les depara a las industrias mediáticas? ¿Cuál es y será el rol —cada vez más relevante— de los prosumidores (productores y consumidores) en esta nueva dinámica comunicacional? En este libro lo descubrirás. \n  \nMás información sobre el libro: \n \nComprar \n  \n  \n\n  \n 
URL:https://upc.admin.simeh.co/evento/pl-la-evolucion-de-la-narrativa-audiovisual/
CATEGORIES:En VIVO,Presentación de libro
ATTACH;FMTTYPE=image/png:https://upc.admin.simeh.co/wp-content/uploads/2021/09/PesLibro-2021-Narrativa-audiovisual.png
ORGANIZER;CN="Editorial%20UPC":MAILTO:editorial@upc.edu.pe
END:VEVENT
END:VCALENDAR