BEGIN:VCALENDAR
VERSION:2.0
PRODID:-//Editorial UPC - ECPv5.16.2.1//NONSGML v1.0//EN
CALSCALE:GREGORIAN
METHOD:PUBLISH
X-WR-CALNAME:Editorial UPC
X-ORIGINAL-URL:https://upc.admin.simeh.co
X-WR-CALDESC:Eventos para Editorial UPC
BEGIN:VTIMEZONE
TZID:America/New_York
BEGIN:DAYLIGHT
TZOFFSETFROM:-0500
TZOFFSETTO:-0400
TZNAME:EDT
DTSTART:20210314T070000
END:DAYLIGHT
BEGIN:STANDARD
TZOFFSETFROM:-0400
TZOFFSETTO:-0500
TZNAME:EST
DTSTART:20211107T060000
END:STANDARD
END:VTIMEZONE
BEGIN:VEVENT
DTSTART;TZID=America/New_York:20210909T160000
DTEND;TZID=America/New_York:20210909T170000
DTSTAMP:20260419T095103
CREATED:20210805T190432Z
LAST-MODIFIED:20210903T154303Z
UID:6429-1631203200-1631206800@upc.admin.simeh.co
SUMMARY:Presentación del libro: Bocadillos de arte [EN VIVO]
DESCRIPTION:Regístrate en el formulario para acceder al evento vía Zoom. \nConfirma tu asistencia\nLos temas tratados en esta publicación son un pretexto para apreciar y analizar una diversidad de creaciones en un recorrido que se aparta de la ruta histórica; y son\, además\, una ocasión para reflexionar de un modo inclusivo y transversal en una aventura que se hace más cercana con la información que acompaña cada obra escogida.\nDe este modo se invita al disfrute\, a la libre contemplación y a compartir estas experiencias\, que\, esperamos\, provoquen en el lector ganas de vivir las suyas… de probar sus propios bocadillos. \nParticipan:\nCristina Dreifuss (Perú) – Autora\nPaloma Carcedo (Perú) – Comentarista\nUrsula Freundt Thurne (Perú) – Comentarista\nOscar Sánchez (Presentador) \n  \nMás información sobre el libro: \n \n  \nComprar \n  \n\n  \n 
URL:https://upc.admin.simeh.co/evento/pl-bocadillos-de-arte/
CATEGORIES:En VIVO,Presentación de libro
ATTACH;FMTTYPE=image/png:https://upc.admin.simeh.co/wp-content/uploads/2021/08/PesLibro-2021-Bocadillos-de-arte-MOD.png
ORGANIZER;CN="Editorial%20UPC":MAILTO:editorial@upc.edu.pe
END:VEVENT
END:VCALENDAR