BEGIN:VCALENDAR
VERSION:2.0
PRODID:-//Editorial UPC - ECPv5.16.2.1//NONSGML v1.0//EN
CALSCALE:GREGORIAN
METHOD:PUBLISH
X-WR-CALNAME:Editorial UPC
X-ORIGINAL-URL:https://upc.admin.simeh.co
X-WR-CALDESC:Eventos para Editorial UPC
BEGIN:VTIMEZONE
TZID:America/New_York
BEGIN:DAYLIGHT
TZOFFSETFROM:-0500
TZOFFSETTO:-0400
TZNAME:EDT
DTSTART:20220313T070000
END:DAYLIGHT
BEGIN:STANDARD
TZOFFSETFROM:-0400
TZOFFSETTO:-0500
TZNAME:EST
DTSTART:20221106T060000
END:STANDARD
END:VTIMEZONE
BEGIN:VEVENT
DTSTART;TZID=America/New_York:20221111T190000
DTEND;TZID=America/New_York:20221111T200000
DTSTAMP:20260419T084411
CREATED:20221005T022706Z
LAST-MODIFIED:20221111T184301Z
UID:7570-1668193200-1668196800@upc.admin.simeh.co
SUMMARY:Presentación de libro: Pídelo con respeto [Campus San Isidro]
DESCRIPTION:  \n\nSe trata de una obra colectiva conformada por 13 autores.\n\n\n\n\n  \nFue en 1972 que se estrenó por primera vez “El padrino”\, una película que revolucionó el mundo cinematográfico y que ha trascendido en el tiempo a diversos lugares del mundo. A 50 años de su estreno\, Editorial UPC publica el libro Pídelo con respeto. Medio siglo con “El padrino” . \nUn texto que surge del placer por las buenas películas e historias. En esta recopilación de artículos se profundiza en asuntos de alcance universal y de larga data: la familia\, la figura del padre\, el poder\, la sucesión\, la traición\, la exclusión de la mujer\, la inmigración\, la venganza\, el amor o la muerte. \nComo se recuerda\, este film narra la historia de una familia italoamericana dedicada al crimen\, pero también ofrece una multiplicidad de ángulos que propician el intercambio de ideas o el análisis entusiasta. Ahí radica lo maravilloso de esta aventura y el origen central de esta tentación expresada en el libro. \n\n\n\nLas personas que intervinieron en esta noble misión académico-creativa lo hicieron por pasión al cine y a las letras. El lector se dará cuenta de ello. \nCabe destacar\, que es una obra colectiva conformada por 13 autores: Manuel Eráusquin Oblitas\, César Pita Dueñas y Oscar Sánchez Benavides (editores)\, Fernando Armas Asín\, Ana Caroline Cruz Valencia\, Christian Estrada Ugarte\, Juan Carlos Martínez Sipión\, Paola Palomino Flores\, Molly Rosas Montoya\, Yasmín Sayán Casquino\, Gloria Tovar Gil\, Francesco Tucci y Vladimir Zárate Alva. \n\n\n\n  \nMás información sobre el libro: \n\n\n\n \n \n\n\n\nComprar e-book \n  \n  \n 
URL:https://upc.admin.simeh.co/evento/pidelo-con-respeto-en-campus/
LOCATION:UPC Salaverry\, Av. Gral. Salaverry 2255\, San Isidro 15076\, Lima\, Lima\, Perú
CATEGORIES:Presentación de libro
ATTACH;FMTTYPE=image/png:https://upc.admin.simeh.co/wp-content/uploads/2022/10/Ev-2022-Pidelo-con-respeto-CAMPUS-3.png
ORGANIZER;CN="Editorial%20UPC":MAILTO:editorial@upc.edu.pe
END:VEVENT
END:VCALENDAR