BEGIN:VCALENDAR
VERSION:2.0
PRODID:-//Editorial UPC - ECPv5.16.2.1//NONSGML v1.0//EN
CALSCALE:GREGORIAN
METHOD:PUBLISH
X-WR-CALNAME:Editorial UPC
X-ORIGINAL-URL:https://upc.admin.simeh.co
X-WR-CALDESC:Eventos para Editorial UPC
BEGIN:VTIMEZONE
TZID:America/New_York
BEGIN:DAYLIGHT
TZOFFSETFROM:-0500
TZOFFSETTO:-0400
TZNAME:EDT
DTSTART:20250309T070000
END:DAYLIGHT
BEGIN:STANDARD
TZOFFSETFROM:-0400
TZOFFSETTO:-0500
TZNAME:EST
DTSTART:20251102T060000
END:STANDARD
END:VTIMEZONE
BEGIN:VEVENT
DTSTART;TZID=America/New_York:20250526T180000
DTEND;TZID=America/New_York:20250526T190000
DTSTAMP:20260423T161022
CREATED:20250519T205805Z
LAST-MODIFIED:20250524T013326Z
UID:10069-1748282400-1748286000@upc.admin.simeh.co
SUMMARY:Perder los papeles. Editoriales en tiempos de crisis climáticas
DESCRIPTION:  \nEn este conversatorio\, hablaremos sobre cómo las editoriales universitarias pueden responder a la crisis climática y su impacto en la industria editorial. A partir de la idea “perder los papeles” reflexionaremos sobre las necesidades de innovar y adaptarse a los cambios climáticos y tecnológicos que están cambiando la forma en que se produce\, distribuye y consume el conocimiento.} \n\nParticipan:\nPatricia Arévalo\, Lizbeth Alvarado y Fernanda Arris (moderadora). \nFecha: Martes 27 de mayo\nHora: 6:00 p.m.\nLugar: Boulevard del Jirón Carpaccio\, detrás del C.C. La Rambla \n  \n 
URL:https://upc.admin.simeh.co/evento/perder-los-papeles-editoriales-en-tiempos-de-crisis-climaticas/
CATEGORIES:Feria,Feria del Libro
ATTACH;FMTTYPE=image/jpeg:https://upc.admin.simeh.co/wp-content/uploads/2025/05/Feria-del-Libro-de-San-Borja_02-scaled.jpg
END:VEVENT
END:VCALENDAR