BEGIN:VCALENDAR
VERSION:2.0
PRODID:-//Editorial UPC - ECPv5.16.2.1//NONSGML v1.0//EN
CALSCALE:GREGORIAN
METHOD:PUBLISH
X-WR-CALNAME:Editorial UPC
X-ORIGINAL-URL:https://upc.admin.simeh.co
X-WR-CALDESC:Eventos para Editorial UPC
BEGIN:VTIMEZONE
TZID:America/New_York
BEGIN:DAYLIGHT
TZOFFSETFROM:-0500
TZOFFSETTO:-0400
TZNAME:EDT
DTSTART:20220313T070000
END:DAYLIGHT
BEGIN:STANDARD
TZOFFSETFROM:-0400
TZOFFSETTO:-0500
TZNAME:EST
DTSTART:20221106T060000
END:STANDARD
END:VTIMEZONE
BEGIN:VEVENT
DTSTART;TZID=America/New_York:20220512T180000
DTEND;TZID=America/New_York:20220512T190000
DTSTAMP:20260419T084750
CREATED:20220427T000925Z
LAST-MODIFIED:20230131T135701Z
UID:7270-1652378400-1652382000@upc.admin.simeh.co
SUMMARY:Mesa redonda: Faltas disciplinarias en el servicio civil peruano
DESCRIPTION:  \nRegístrate en el formulario para acceder al evento vía Zoom. \nConfirma tu asistencia\n¿Cómo se sancionan los casos de negligencia\, acoso\, tráfico de influencias y otras faltas en las entidades del Estado? En Faltas disciplinarias en el servicio civil peruano. Compendio de criterios jurisprudenciales\, se desarrolla cada una de las faltas disciplinarias previstas en la Ley 30057 y su reglamento general\, así como los tipos infractores y la casuística. Con esta información se podrán aplicar adecuadamente el régimen disciplinario y sus sanciones. \nParticipan:\nJunior Pichón De la Cruz (Perú) – Autor/Moderador\nJuan Antonio Fernández Jerí (Perú – Panelista\nAna María Risi Quiñones (Perú) – Panelista \n  \nMás información sobre el libro: \n \nComprar \n  \n\n  \n 
URL:https://upc.admin.simeh.co/evento/mesa-redonda-faltas-disciplinarias-en-el-proceso-civil-peruano-2/
CATEGORIES:Convocatoria,En VIVO,Mesa redonda,Presentación de libro
ATTACH;FMTTYPE=image/png:https://upc.admin.simeh.co/wp-content/uploads/2022/04/Ev-2022-Faltas-OK.png
END:VEVENT
END:VCALENDAR