BEGIN:VCALENDAR
VERSION:2.0
PRODID:-//Editorial UPC - ECPv5.16.2.1//NONSGML v1.0//EN
CALSCALE:GREGORIAN
METHOD:PUBLISH
X-WR-CALNAME:Editorial UPC
X-ORIGINAL-URL:https://upc.admin.simeh.co
X-WR-CALDESC:Eventos para Editorial UPC
BEGIN:VTIMEZONE
TZID:America/New_York
BEGIN:DAYLIGHT
TZOFFSETFROM:-0500
TZOFFSETTO:-0400
TZNAME:EDT
DTSTART:20220313T070000
END:DAYLIGHT
BEGIN:STANDARD
TZOFFSETFROM:-0400
TZOFFSETTO:-0500
TZNAME:EST
DTSTART:20221106T060000
END:STANDARD
END:VTIMEZONE
BEGIN:VEVENT
DTSTART;TZID=America/New_York:20221124T180000
DTEND;TZID=America/New_York:20221124T200000
DTSTAMP:20260419T084733
CREATED:20221018T210421Z
LAST-MODIFIED:20221121T182716Z
UID:7691-1669312800-1669320000@upc.admin.simeh.co
SUMMARY:Mesa redonda: ¿Es posible la Psicoterapia Breve Psicoanalítica?
DESCRIPTION:  \nRegístrate en el formulario y participa en la sala de Zoom para entrar al sorteo de un ebook del libro: «Diagnóstico con intervenciones terapeuticas». \nConfirma tu asistencia\n  \n  \n  \nParticipan:\nDaphne Gusieff – Moderadora\nLicenciada en Psicología Clínica por la PUCP. Magíster en Docencia para la Educación superior por la UNAB de Chile. Psicoterapeuta de niños\, adolescentes y adultos. Egresada del Centro de Psicoterapia Psicoanalítica de Lima. Se desempeña como Secretaria científica de la Asociación Peruana de Psicoterapia psicoanalítica de niños y adolescentes y es Coordinadora del Departamento de Niños y adolescentes Donald Winnicott del CPPL. También es Docente universitaria de la UPC y en la cátedra de Metapsicología del CPPL. \nOlinda Serrano de Dreifuss – Autora\nEs Psicóloga Clínica con Maestría en Psicoanálisis y Ciencias Humanas y Sociales. ADemás es autora de diversos artículos y del libro Psicoterapia Breve a partir de la historia\, editado por Editorial UPC. Actualmente\, se desempeña como Psicoterapeuta y docente del Centro de Psicoterapia Psicoanalítica de Lima. \nRegina Tagliabue – Comentarista\nMagister en Estudios Teóricos en Psicoanálisis. Psicóloga Clínica. Psicoterapeuta Psicoanalítica de Niños\, Adolescentes y Adultos. Doctoranda del doctorado en Estudios Psicoanalíticos de la Pontificia Universidad Católica del Perú – PUCP. Además cuenta con el Diplomado en Fundamentos y praxis de la clínica psicoanalítica desde Winnicott en Universidad Diego Portales. UDP-Chile. Es egresada del Centro de Psicoterapia Psicoanalítica de Lima- CPPL.\nActualmente es Coordinadora y supervisora del internado del CPPL. Docente del Instituto Psicoanalítico Interdisciplinario –IPI. Docente de la Facultad de Psicología en la Universidad Peruana de Ciencias Aplicadas UPC. Docente de Postgrado de la Universidad Continental. Presidenta de la Asociación Peruana de Psicoterapia Psicoanalítica de Niños y Adolescentes-APPPNA. Miembro de la federación latinoamericana de asociaciones de psicoterapia psicoanalítica y psicoanálisis-FLAPPSIP. Miembro de la Asociación de Psicoterapia Psicoanalítica-ADPP. \nNora Rivasplata – Comentarista\nLicenciada en Psicologia\, por la Universidad Nacional Mayor de San Marcos. Numero de colegiatura en el Colegio de Psicologos del Peru 10593. Psicoterapeuta de Orientación Psicoanalítica\, egresada del Centro de Psicoterapia Psicoanalitica de Lima (CPPL). Estudios concluidos de maestría en Neurociencias en la facultad de Medicina de la Universidad Nacional Mayor de San Marcos. Miembro fundador de la Academia de Neurociencias del Perú. Docente del curso de Psicoanalisis y Neurociencias\, en la Escuela-CPPL. Psicoterapeuta del Dpto. Sigmund Freud-CPPL. Coordinadora del Dpto. Carlos Alberto Seguin-CPPL. \n  \nMás información sobre el libro: \n \nComprar e-book \n  \n\n 
URL:https://upc.admin.simeh.co/evento/mesa-redonda-es-posible-la-psicoterapia-breve-psicoanalitica/
CATEGORIES:En VIVO,Mesa redonda
ATTACH;FMTTYPE=image/png:https://upc.admin.simeh.co/wp-content/uploads/2022/10/Ev-2022-Es-posible-la-Psicoterapia-Breve-Psicoanalitica.png
ORGANIZER;CN="Editorial%20UPC":MAILTO:editorial@upc.edu.pe
END:VEVENT
END:VCALENDAR