BEGIN:VCALENDAR
VERSION:2.0
PRODID:-//Editorial UPC - ECPv5.16.2.1//NONSGML v1.0//EN
CALSCALE:GREGORIAN
METHOD:PUBLISH
X-WR-CALNAME:Editorial UPC
X-ORIGINAL-URL:https://upc.admin.simeh.co
X-WR-CALDESC:Eventos para Editorial UPC
BEGIN:VTIMEZONE
TZID:America/New_York
BEGIN:DAYLIGHT
TZOFFSETFROM:-0500
TZOFFSETTO:-0400
TZNAME:EDT
DTSTART:20220313T070000
END:DAYLIGHT
BEGIN:STANDARD
TZOFFSETFROM:-0400
TZOFFSETTO:-0500
TZNAME:EST
DTSTART:20221106T060000
END:STANDARD
END:VTIMEZONE
BEGIN:VEVENT
DTSTART;TZID=America/New_York:20220915T180000
DTEND;TZID=America/New_York:20220915T190000
DTSTAMP:20260419T083232
CREATED:20220823T145256Z
LAST-MODIFIED:20230315T200003Z
UID:8011-1663264800-1663268400@upc.admin.simeh.co
SUMMARY:Mesa redonda: El sabor de la arquitectura
DESCRIPTION:  \nUna conversación sobre la importancia de la arquitectura en las restaurantes más emblemáticos del boom gastronómico hoy en día. \nParticipan:\nMario Ricci – Moderador\nJorge Balerdi – Autor\nCristina Dreifuss – Panelista\nJorge Beingolea – Panelista \n 
URL:https://upc.admin.simeh.co/evento/mesa-redonda-el-sabor-de-la-arquitectura/
CATEGORIES:Conversatorio,En VIVO,Mesa redonda
ATTACH;FMTTYPE=image/png:https://upc.admin.simeh.co/wp-content/uploads/2022/08/Ev-2022-El-sabor-de-la-arquitectura.png
END:VEVENT
END:VCALENDAR