BEGIN:VCALENDAR
VERSION:2.0
PRODID:-//Editorial UPC - ECPv5.16.2.1//NONSGML v1.0//EN
CALSCALE:GREGORIAN
METHOD:PUBLISH
X-WR-CALNAME:Editorial UPC
X-ORIGINAL-URL:https://upc.admin.simeh.co
X-WR-CALDESC:Eventos para Editorial UPC
BEGIN:VTIMEZONE
TZID:America/New_York
BEGIN:DAYLIGHT
TZOFFSETFROM:-0500
TZOFFSETTO:-0400
TZNAME:EDT
DTSTART:20230312T070000
END:DAYLIGHT
BEGIN:STANDARD
TZOFFSETFROM:-0400
TZOFFSETTO:-0500
TZNAME:EST
DTSTART:20231105T060000
END:STANDARD
END:VTIMEZONE
BEGIN:VEVENT
DTSTART;TZID=America/New_York:20230908T130000
DTEND;TZID=America/New_York:20230908T140000
DTSTAMP:20260419T095354
CREATED:20230828T222741Z
LAST-MODIFIED:20231010T213510Z
UID:8889-1694178000-1694181600@upc.admin.simeh.co
SUMMARY:Libro o artículo: ¿compiten entre sí?
DESCRIPTION:  \nRegístrate en el formulario para poder ingresar: \nRegistrate aquí\n  \nCompartir conocimiento nuevo es un objetivo que comparten casi todas las publicaciones académicas\, pero existen también otros motivos que impulsan a los autores\, distintos puntos de partida y también una variedad de caminos para lograrlo. Por ello\, es común que uno se pregunte cuándo conviene publicar un artículo o un libro\, cuál es el más adecuado para cada público y cuál contribuye más a los objetivos del autor/investigador… ¿es uno mejor que el otro? \n\nParticipan:\nPatricia Arévalo Majluf – Pontificia Universidad Católica del Perú\nLuis Suárez Rojas – Universidad Nacional Mayor de San Marcos\nCecilia Justino Mérida – Universidad Peruana de Ciencias Aplicadas\nModera: Magda Simons Tejada \n  \n\n\n\nFecha: Viernes 08 de septiembre\nHora: 1:00 p. m.\nLugar: AULA MAGNA 1 – Campus UPC Monterrico \n\n\n 
URL:https://upc.admin.simeh.co/evento/libro-o-articulo-compiten-entre-si/
LOCATION:UPC Monterrico\, Prolongación Primavera 2390\, Monterrico\, Lima\, Lima\, Perú
CATEGORIES:Conversatorio
ATTACH;FMTTYPE=image/png:https://upc.admin.simeh.co/wp-content/uploads/2023/08/Libro-o-articulo_1279x720-YT_1279x720-YT-copia.png
ORGANIZER;CN="Editorial%20UPC":MAILTO:editorial@upc.edu.pe
END:VEVENT
END:VCALENDAR