BEGIN:VCALENDAR
VERSION:2.0
PRODID:-//Editorial UPC - ECPv5.16.2.1//NONSGML v1.0//EN
CALSCALE:GREGORIAN
METHOD:PUBLISH
X-WR-CALNAME:Editorial UPC
X-ORIGINAL-URL:https://upc.admin.simeh.co
X-WR-CALDESC:Eventos para Editorial UPC
BEGIN:VTIMEZONE
TZID:America/New_York
BEGIN:DAYLIGHT
TZOFFSETFROM:-0500
TZOFFSETTO:-0400
TZNAME:EDT
DTSTART:20230312T070000
END:DAYLIGHT
BEGIN:STANDARD
TZOFFSETFROM:-0400
TZOFFSETTO:-0500
TZNAME:EST
DTSTART:20231105T060000
END:STANDARD
END:VTIMEZONE
BEGIN:VEVENT
DTSTART;TZID=America/New_York:20230921T190000
DTEND;TZID=America/New_York:20230921T200000
DTSTAMP:20260419T084621
CREATED:20230907T161653Z
LAST-MODIFIED:20230922T164540Z
UID:8911-1695322800-1695326400@upc.admin.simeh.co
SUMMARY:Lanzamiento: La singularidad del cerebro adolescente
DESCRIPTION:  \n  \nRegístrate en el formulario y participa en la sala de Zoom para entrar al sorteo de un ebook del libro: «La singularidad del cerebro adolescente». \nConfirma tu asistencia\n  \nEn un contexto mundial en el que más del 40% de niños y adolescentes de entre 10 y 19 años sufre de ansiedad y depresión\, La singularidad del cerebro adolescente\, es una herramienta esencial para comprender las particularidades de la mente de los adolescentes y para informarnos sobre cómo sus experiencias los preparan para la adultez. \n  \n\nParticipan: \n\n\nCésar Ruiz de Somocurcio – AUTOR\nDaniel Abad – PANELISTA\nHéctor Vialé – PANELISTA\nNadia Yepes – MODERADOR \n\n\n\n\n\nMás información sobre el libro:\n\n\nComprar e-book\n\n  \n  \n\n \n 
URL:https://upc.admin.simeh.co/evento/lanzamiento-la-singularidad-del-cerebro-adoscente/
CATEGORIES:Conversatorio,En VIVO,Presentación de libro
ATTACH;FMTTYPE=image/png:https://upc.admin.simeh.co/wp-content/uploads/2023/09/La-sinularidad-del-cerebro-adolescente_1279x720-px.png
ORGANIZER;CN="Editorial%20UPC":MAILTO:editorial@upc.edu.pe
END:VEVENT
END:VCALENDAR