BEGIN:VCALENDAR
VERSION:2.0
PRODID:-//Editorial UPC - ECPv5.16.2.1//NONSGML v1.0//EN
CALSCALE:GREGORIAN
METHOD:PUBLISH
X-WR-CALNAME:Editorial UPC
X-ORIGINAL-URL:https://upc.admin.simeh.co
X-WR-CALDESC:Eventos para Editorial UPC
BEGIN:VTIMEZONE
TZID:America/New_York
BEGIN:DAYLIGHT
TZOFFSETFROM:-0500
TZOFFSETTO:-0400
TZNAME:EDT
DTSTART:20230312T070000
END:DAYLIGHT
BEGIN:STANDARD
TZOFFSETFROM:-0400
TZOFFSETTO:-0500
TZNAME:EST
DTSTART:20231105T060000
END:STANDARD
END:VTIMEZONE
BEGIN:VEVENT
DTSTART;TZID=America/New_York:20230928T190000
DTEND;TZID=America/New_York:20230928T200000
DTSTAMP:20260419T084708
CREATED:20230907T191255Z
LAST-MODIFIED:20231026T202245Z
UID:8915-1695927600-1695931200@upc.admin.simeh.co
SUMMARY:Lanzamiento: Artistas navegantes del mar digital
DESCRIPTION:  \nRegístrate en el formulario y participa en la sala de Zoom para entrar al sorteo de un ebook del libro: «Artistas navegantes del mar digital». \nConfirma tu asistencia\n  \nArtistas navegantes del mar digital presenta las perspectivas del arte como un elemento de expresión mediante las redes sociales y la tecnología\, así como un muestrario de imágenes y testimonios de estos artistas usuarios de la plataforma; se conocerán sus obras\, que comprenden desde el collage y la fotografía hasta la literatura. Interesante tema que se desarrolla día a día. \n  \n\nParticipan: \n\n\nMayllorid Flores Suárez – Autora\nRita Alvarez Carbajal – Panelista\nAlfredo Lazarte Arimuya – Panelista\nGaby Torre Sandoval – Moderador \n\n\n\n\n\nMás información sobre el libro:\n\n\nComprar e-book
URL:https://upc.admin.simeh.co/evento/lanzamiento-artistas-navegantes-en-el-mar-digital/
CATEGORIES:Conversatorio,En VIVO,Presentación de libro
ATTACH;FMTTYPE=image/png:https://upc.admin.simeh.co/wp-content/uploads/2023/09/Artistas-navegantes_1279x720-YT-copia.png
ORGANIZER;CN="Editorial%20UPC":MAILTO:editorial@upc.edu.pe
END:VEVENT
END:VCALENDAR