BEGIN:VCALENDAR
VERSION:2.0
PRODID:-//Editorial UPC - ECPv5.16.2.1//NONSGML v1.0//EN
CALSCALE:GREGORIAN
METHOD:PUBLISH
X-WR-CALNAME:Editorial UPC
X-ORIGINAL-URL:https://upc.admin.simeh.co
X-WR-CALDESC:Eventos para Editorial UPC
BEGIN:VTIMEZONE
TZID:America/New_York
BEGIN:DAYLIGHT
TZOFFSETFROM:-0500
TZOFFSETTO:-0400
TZNAME:EDT
DTSTART:20230312T070000
END:DAYLIGHT
BEGIN:STANDARD
TZOFFSETFROM:-0400
TZOFFSETTO:-0500
TZNAME:EST
DTSTART:20231105T060000
END:STANDARD
END:VTIMEZONE
BEGIN:VEVENT
DTSTART;TZID=America/New_York:20231123T080000
DTEND;TZID=America/New_York:20231123T170000
DTSTAMP:20260425T100305
CREATED:20231030T230904Z
LAST-MODIFIED:20231122T001718Z
UID:9032-1700726400-1700758800@upc.admin.simeh.co
SUMMARY:Lanzamiento: La forma construida
DESCRIPTION:  \nRegístrate en el formulario y participa en la sala de Zoom para entrar al sorteo de un ebook del libro: «La forma contruida». \nConfirma tu asistencia\n  \nA través del análisis crítico\, se puede entender el desarrollo de la forma y de la composición arquitectónica de la segunda mitad del siglo XX teniendo como base 10 de los edificios más icónicos de ciudad de Lima. \n\n\n\nMás información sobre el libro:\n\n\nComprar e-book\n\n\n 
URL:https://upc.admin.simeh.co/evento/la-forma-contruida/
CATEGORIES:Conversatorio,En VIVO,Presentación de libro
ATTACH;FMTTYPE=image/png:https://upc.admin.simeh.co/wp-content/uploads/2023/10/La-forma-construida_1279x720-YT-copia-copy.png
ORGANIZER;CN="Editorial%20UPC":MAILTO:editorial@upc.edu.pe
END:VEVENT
END:VCALENDAR