BEGIN:VCALENDAR
VERSION:2.0
PRODID:-//Editorial UPC - ECPv5.16.2.1//NONSGML v1.0//EN
CALSCALE:GREGORIAN
METHOD:PUBLISH
X-WR-CALNAME:Editorial UPC
X-ORIGINAL-URL:https://upc.admin.simeh.co
X-WR-CALDESC:Eventos para Editorial UPC
BEGIN:VTIMEZONE
TZID:America/New_York
BEGIN:DAYLIGHT
TZOFFSETFROM:-0500
TZOFFSETTO:-0400
TZNAME:EDT
DTSTART:20220313T070000
END:DAYLIGHT
BEGIN:STANDARD
TZOFFSETFROM:-0400
TZOFFSETTO:-0500
TZNAME:EST
DTSTART:20221106T060000
END:STANDARD
END:VTIMEZONE
BEGIN:VEVENT
DTSTART;TZID=America/New_York:20221118T130000
DTEND;TZID=America/New_York:20221118T140000
DTSTAMP:20260419T082057
CREATED:20221018T210239Z
LAST-MODIFIED:20221118T172647Z
UID:7688-1668776400-1668780000@upc.admin.simeh.co
SUMMARY:Conversatorio: Nuevas TIC y poder en los Andes peruanos
DESCRIPTION:  \nRegístrate en el formulario y participa en la sala de Zoom para entrar al sorteo de un ebook del libro: «Tecnologías digitales y poder en los Andes». \nConfirma tu asistencia\n  \n  \nConversaremos de cómo el internet y el celular son usados por las familias de élite y las autoridades locales para insertarse o mantenerse en escenarios económicos y políticos. Como estas tecnologias digitales crean poder. \n  \nParticipa:\nMario Sánchez Dávila – Autor\nDoctor en Antropología con mención en Estudios Andinos por la Pontificia Universidad Católica del Perú (PUCP). Además es miembro del Grupo de Investigación en Antropología Visual (GIAV-PUCP). Ha publicado diversos artículos sobre antropología andina y antropología de los medios en distintas revistas nacionales e internacionales. Actualmente\, se desempeña como profesor de los cursos Antropología Social\, Sociología de la Comunicación y Taller de Proyectos Periodísticos en la Universidad Peruana de Ciencias Aplicadas (UPC). \nCarlos Claros – Comentarista\nAntropólogo\, Magister en Marketing y Negocios Internacionales; especialista en Coaching y en Monitoreo y evaluación de proyectos. Profesor Universitario y Consultor en temas sociales. \n  \nMás información sobre el libro: \n \nComprar e-book \n  \n\n 
URL:https://upc.admin.simeh.co/evento/conversatorio-nuevas-tic-y-poder-en-los-andes-peruanos/
CATEGORIES:Conversatorio,En VIVO,Promoción
ATTACH;FMTTYPE=image/png:https://upc.admin.simeh.co/wp-content/uploads/2022/10/Ev-2022-TIC.png
ORGANIZER;CN="Editorial%20UPC":MAILTO:editorial@upc.edu.pe
END:VEVENT
END:VCALENDAR