BEGIN:VCALENDAR
VERSION:2.0
PRODID:-//Editorial UPC - ECPv5.16.2.1//NONSGML v1.0//EN
CALSCALE:GREGORIAN
METHOD:PUBLISH
X-WR-CALNAME:Editorial UPC
X-ORIGINAL-URL:https://upc.admin.simeh.co
X-WR-CALDESC:Eventos para Editorial UPC
BEGIN:VTIMEZONE
TZID:America/New_York
BEGIN:DAYLIGHT
TZOFFSETFROM:-0500
TZOFFSETTO:-0400
TZNAME:EDT
DTSTART:20210314T070000
END:DAYLIGHT
BEGIN:STANDARD
TZOFFSETFROM:-0400
TZOFFSETTO:-0500
TZNAME:EST
DTSTART:20211107T060000
END:STANDARD
END:VTIMEZONE
BEGIN:VEVENT
DTSTART;TZID=America/New_York:20210527T160000
DTEND;TZID=America/New_York:20210527T170000
DTSTAMP:20260419T084734
CREATED:20210521T015938Z
LAST-MODIFIED:20210521T224825Z
UID:6050-1622131200-1622134800@upc.admin.simeh.co
SUMMARY:Conversatorio: La experiencia editorial en libros de fotografía [EN VIVO]
DESCRIPTION:Regístrate en el formulario para acceder al evento vía Zoom. \nConfirma tu asistencia\nEl plasmar vistas\, paisajes\, vivencias a través de una cámara fotográfica\, es un arte y una técnica que no todos dominan\, pero llevar estas imágenes a las páginas de un libro es un reto aun mayor. \nPara conversar sobre los retos que esto implica\, nos acompañarán Franz Krajnik\, José Vidal y Mariana Montalvo. \nFranz Krajnik es fotógrafo documental y magíster en Antropología Visual por la Pontificia Universidad Católica del Perú. Autor de Uchuraccay (2018) y Casa de Todos (2020). Ganador del Premio Luces 2018 y Eugène Courret 2013. Colaboró en diversos medios de comunicación y actualmente es docente en la Carrera de Comunicación y Fotografía de la UPC. Es miembro del Observatorio de Cultura Fotográfica en la Universidad Panamericana\, en Ciudad de México y editor de FOT. Revista Peruana de Fotografía e Investigación Visual. \nJosé Vidal es licenciado en Ciencias de la Comunicación y ha finalizado una maestría en Sociología en Universidad Mayor de San Marcos. Se desempeña como fotoperiodista desde el año 2002 y ha trabajado para distintos medios de prensa como reportero y editor\, entre ellos: el Diario Ojo\, el diario La República y la revista Somos del diario El Comercio. Fundador del colectivo documentalista Aleph Photo\,. Actualmente es docente universitario y presidente de la Asociación de Foto Periodistas del Perú – AFPP.  \nMariana Montalvo es fotógrafa publicitaria y docente. Magíster  en Docencia universitaria. Es becaria de estudios de Conservación de Patrimonio Fotográfico en el Atelier de Restauración de la Ville de París\, Francia. Ha participado en el rescate y la puesta en valor del archivo Courret y  el archivo Baldomero Alejos. Directora de la carrera de  comunicación y fotografía de la UPC. \n\nMás información sobre los libros: \n\n\n\nCasa de todos\nEliana Vásquez\nUchuraccay\n\n\n\n\n\n\n\n\n  \n\n  \n 
URL:https://upc.admin.simeh.co/evento/conversatorio-la-experiencia-editorial-en-libros-de-fotografia-en-vivo/
CATEGORIES:Conversatorio,En VIVO
ATTACH;FMTTYPE=image/png:https://upc.admin.simeh.co/wp-content/uploads/2021/05/PL-Post-2021-Jueves-editorial-La-experiencia-editorial-en-libros-de-fotografia3.png
ORGANIZER;CN="Editorial%20UPC":MAILTO:editorial@upc.edu.pe
END:VEVENT
END:VCALENDAR