BEGIN:VCALENDAR
VERSION:2.0
PRODID:-//Editorial UPC - ECPv5.16.2.1//NONSGML v1.0//EN
CALSCALE:GREGORIAN
METHOD:PUBLISH
X-WR-CALNAME:Editorial UPC
X-ORIGINAL-URL:https://upc.admin.simeh.co
X-WR-CALDESC:Eventos para Editorial UPC
BEGIN:VTIMEZONE
TZID:America/New_York
BEGIN:DAYLIGHT
TZOFFSETFROM:-0500
TZOFFSETTO:-0400
TZNAME:EDT
DTSTART:20230312T070000
END:DAYLIGHT
BEGIN:STANDARD
TZOFFSETFROM:-0400
TZOFFSETTO:-0500
TZNAME:EST
DTSTART:20231105T060000
END:STANDARD
END:VTIMEZONE
BEGIN:VEVENT
DTSTART;TZID=America/New_York:20230829T190000
DTEND;TZID=America/New_York:20230829T200000
DTSTAMP:20260419T083012
CREATED:20230821T191529Z
LAST-MODIFIED:20230821T191529Z
UID:8829-1693335600-1693339200@upc.admin.simeh.co
SUMMARY:Conversatorio: Khipu Instrumento de gestión\, memoria y poder
DESCRIPTION:  \nLa presentación se dará en la Feria Internacional del Libro de las Universitarias y los Universitarios – México el 29 de agosto\, en un conversatorio en el Salón Francisco Monterde\, con la participación de Lydia Fossa Falco\, Danielle Zaslausky\, Sayri Karp\, Fernanda Arris y Paola Velasco. Además\, se transmitirá en diferido a las 7:00 p. m. por las redes sociales de la Editorial. \n 
URL:https://upc.admin.simeh.co/evento/conversatorio-khipu-instrumento-de-gestion-memoria-y-poder/
LOCATION:FILUNI\, México
CATEGORIES:Feria,Presentación de libro
ATTACH;FMTTYPE=image/png:https://upc.admin.simeh.co/wp-content/uploads/2023/08/FILUNI-04-04-04-09.png
END:VEVENT
END:VCALENDAR