BEGIN:VCALENDAR
VERSION:2.0
PRODID:-//Editorial UPC - ECPv5.16.2.1//NONSGML v1.0//EN
CALSCALE:GREGORIAN
METHOD:PUBLISH
X-WR-CALNAME:Editorial UPC
X-ORIGINAL-URL:https://upc.admin.simeh.co
X-WR-CALDESC:Eventos para Editorial UPC
BEGIN:VTIMEZONE
TZID:America/New_York
BEGIN:DAYLIGHT
TZOFFSETFROM:-0500
TZOFFSETTO:-0400
TZNAME:EDT
DTSTART:20230312T070000
END:DAYLIGHT
BEGIN:STANDARD
TZOFFSETFROM:-0400
TZOFFSETTO:-0500
TZNAME:EST
DTSTART:20231105T060000
END:STANDARD
END:VTIMEZONE
BEGIN:VEVENT
DTSTART;TZID=America/New_York:20231130T170000
DTEND;TZID=America/New_York:20231130T180000
DTSTAMP:20260424T005138
CREATED:20231127T231300Z
LAST-MODIFIED:20231130T213413Z
UID:9084-1701363600-1701367200@upc.admin.simeh.co
SUMMARY:Conociendo más sobre el Tokusatsu en Latinoamerica FRP
DESCRIPTION:  \nEl mundo del Tokusatsu en Latinoamérica. conoceremos más a través de los ojos de Miguel Angel Vallejo y de Gabriel Muñoz\, quienes nos contaran todo sobre la influencia de este género en esta parte del mundo. \nParticipan:\nGabriel Muñoz – Autor\nMiguel Angel Vallejo\nFernanda Arris \n  \n\nSobre Gabriel Muñoz Tancún\nGabriel Muñoz Tancún es licenciado en Comunicación Audiovisual y Medios Interactivos por la Universidad Peruana de Ciencias Aplicadas (UPC). Con experiencia en la postproducción publicitaria y como artista 3D\, Gabriel se destaca como investigador de fenómenos culturales en los medios audiovisuales\, centrándose en el intrigante mundo del tokusatsu. Motivado por su pasión por este género\, ha desarrollado valiosos aportes y propuestas para acercar el tokusatsu a un público más amplio\, culminando en la creación de su libro. \n\n\n\nMás información sobre el libro:\n\n\nComprar e-book\n\n\n 
URL:https://upc.admin.simeh.co/evento/conociendo-mas-sobre-el-tokusatsu-en-latinoamerica-frp/
CATEGORIES:En VIVO,Feria,Feria del Libro,Presentación de libro
ATTACH;FMTTYPE=image/png:https://upc.admin.simeh.co/wp-content/uploads/2023/11/Tokusatsu-ANCHO.png
END:VEVENT
END:VCALENDAR