BEGIN:VCALENDAR
VERSION:2.0
PRODID:-//Editorial UPC - ECPv5.16.2.1//NONSGML v1.0//EN
CALSCALE:GREGORIAN
METHOD:PUBLISH
X-WR-CALNAME:Editorial UPC
X-ORIGINAL-URL:https://upc.admin.simeh.co
X-WR-CALDESC:Eventos para Editorial UPC
BEGIN:VTIMEZONE
TZID:America/New_York
BEGIN:DAYLIGHT
TZOFFSETFROM:-0500
TZOFFSETTO:-0400
TZNAME:EDT
DTSTART:20220313T070000
END:DAYLIGHT
BEGIN:STANDARD
TZOFFSETFROM:-0400
TZOFFSETTO:-0500
TZNAME:EST
DTSTART:20221106T060000
END:STANDARD
END:VTIMEZONE
BEGIN:VEVENT
DTSTART;TZID=America/New_York:20220723T140000
DTEND;TZID=America/New_York:20220723T150000
DTSTAMP:20260419T082222
CREATED:20220710T221104Z
LAST-MODIFIED:20230317T021646Z
UID:8042-1658584800-1658588400@upc.admin.simeh.co
SUMMARY:Ciriani. 11 años de TDA
DESCRIPTION:  \nEl legado de once años de enseñanza en el Taller de Diseño Avanzado (TDA) del arquitecto y maestro Enrique Ciriani se plasma en la publicación que presentamos\, donde se refleja la experiencia didáctica que muestra el proceso proyectual\, utilizando las herramientas del dibujo como el medio principal en la elaboración del proyecto de arquitectura. . \nParticipan:\nEnrique Ciriani – Autor\nFabry Avalo Valiente – Autor\nOscar Gonzales Moix – Panelista\nOswaldo Nuñez Carvallo – Panelista \n  \nMás información sobre el libro: \n \nCOMPRAR \n 
URL:https://upc.admin.simeh.co/evento/ciriani-11-anos-de-tda/
CATEGORIES:Conferencia,Convocatoria,En VIVO
ATTACH;FMTTYPE=image/png:https://upc.admin.simeh.co/wp-content/uploads/2022/07/Ev-FIL-2022-Ciriani3.png
END:VEVENT
END:VCALENDAR