BEGIN:VCALENDAR
VERSION:2.0
PRODID:-//Editorial UPC - ECPv5.16.2.1//NONSGML v1.0//EN
CALSCALE:GREGORIAN
METHOD:PUBLISH
X-WR-CALNAME:Editorial UPC
X-ORIGINAL-URL:https://upc.admin.simeh.co
X-WR-CALDESC:Eventos para Editorial UPC
BEGIN:VTIMEZONE
TZID:America/New_York
BEGIN:DAYLIGHT
TZOFFSETFROM:-0500
TZOFFSETTO:-0400
TZNAME:EDT
DTSTART:20230312T070000
END:DAYLIGHT
BEGIN:STANDARD
TZOFFSETFROM:-0400
TZOFFSETTO:-0500
TZNAME:EST
DTSTART:20231105T060000
END:STANDARD
END:VTIMEZONE
BEGIN:VEVENT
DTSTART;TZID=America/New_York:20230427T180000
DTEND;TZID=America/New_York:20230427T190000
DTSTAMP:20260419T081754
CREATED:20230321T232533Z
LAST-MODIFIED:20230502T152237Z
UID:8100-1682618400-1682622000@upc.admin.simeh.co
SUMMARY:Charla 1: Charla Mujeres Académicas Latinoamericanas
DESCRIPTION:  \nRegístrate en el formulario y participa en la sala de Zoom : \nConfirma tu asistencia\n  \nEspacio informativo para las interesadas en participar de esta II Convocatoria de Mujeres académicas latinoamericanas \nParticipan:\nMagda Simons – Moderador\nFernanda Arris – Editora \n 
URL:https://upc.admin.simeh.co/evento/charla-1-cma/
CATEGORIES:Conferencia,Convocatoria,En VIVO
ATTACH;FMTTYPE=image/png:https://upc.admin.simeh.co/wp-content/uploads/2023/03/Ev-2023-Convocatoria-MA2.png
ORGANIZER;CN="Editorial%20UPC":MAILTO:editorial@upc.edu.pe
END:VEVENT
END:VCALENDAR