BEGIN:VCALENDAR
VERSION:2.0
PRODID:-//Editorial UPC - ECPv5.16.2.1//NONSGML v1.0//EN
CALSCALE:GREGORIAN
METHOD:PUBLISH
X-WR-CALNAME:Editorial UPC
X-ORIGINAL-URL:https://upc.admin.simeh.co
X-WR-CALDESC:Eventos para Editorial UPC
BEGIN:VTIMEZONE
TZID:America/New_York
BEGIN:DAYLIGHT
TZOFFSETFROM:-0500
TZOFFSETTO:-0400
TZNAME:EDT
DTSTART:20230312T070000
END:DAYLIGHT
BEGIN:STANDARD
TZOFFSETFROM:-0400
TZOFFSETTO:-0500
TZNAME:EST
DTSTART:20231105T060000
END:STANDARD
END:VTIMEZONE
BEGIN:VEVENT
DTSTART;TZID=America/New_York:20230525T190000
DTEND;TZID=America/New_York:20230525T200000
DTSTAMP:20260419T081907
CREATED:20230322T140139Z
LAST-MODIFIED:20230529T235323Z
UID:8106-1685041200-1685044800@upc.admin.simeh.co
SUMMARY:Charla 2: Charla Mujeres Académicas Latinoamericanas
DESCRIPTION:  \nRegístrate en el formulario y participa en la sala de Zoom. \nConfirma tu asistencia\n  \nEspacio informativo para las interesadas en participar de esta II Convocatoria de Mujeres académicas latinoamericanas \nParticipan: \nMagda Simons– Moderadora\nFernanda Arris– Editora\nLía Castillo– Presentadora \n 
URL:https://upc.admin.simeh.co/evento/charla-1-cma-2/
CATEGORIES:Convocatoria,En VIVO
ATTACH;FMTTYPE=image/png:https://upc.admin.simeh.co/wp-content/uploads/2023/03/Ev-2023-Convocatoria-MA2-1.png
ORGANIZER;CN="Editorial%20UPC":MAILTO:editorial@upc.edu.pe
END:VEVENT
END:VCALENDAR