BEGIN:VCALENDAR
VERSION:2.0
PRODID:-//Editorial UPC - ECPv5.16.2.1//NONSGML v1.0//EN
CALSCALE:GREGORIAN
METHOD:PUBLISH
X-WR-CALNAME:Editorial UPC
X-ORIGINAL-URL:https://upc.admin.simeh.co
X-WR-CALDESC:Eventos para Editorial UPC
BEGIN:VTIMEZONE
TZID:America/New_York
BEGIN:DAYLIGHT
TZOFFSETFROM:-0500
TZOFFSETTO:-0400
TZNAME:EDT
DTSTART:20220313T070000
END:DAYLIGHT
BEGIN:STANDARD
TZOFFSETFROM:-0400
TZOFFSETTO:-0500
TZNAME:EST
DTSTART:20221106T060000
END:STANDARD
END:VTIMEZONE
BEGIN:VEVENT
DTSTART;TZID=America/New_York:20220908T180000
DTEND;TZID=America/New_York:20220908T190000
DTSTAMP:20260419T084811
CREATED:20220817T204756Z
LAST-MODIFIED:20230316T211005Z
UID:8022-1662660000-1662663600@upc.admin.simeh.co
SUMMARY:1ra Charla informativa: Convocatoria Nóveles autores por un mundo mejor.
DESCRIPTION:  \nCompartir conocimiento en beneficio de la sociedad es nuestra misión como editorial universitaria. Por ello\, invitamos a participar a aquellos estudiantes\, docentes o profesionales de distintas procedencias que deseen publicar por primera vez un libro\, producto de su investigación. \n 
URL:https://upc.admin.simeh.co/evento/1ra-charla-informativa-convocatoria-noveles-autores-por-un-mundo-mejor/
CATEGORIES:Conversatorio,Convocatoria,En VIVO
ATTACH;FMTTYPE=image/jpeg:https://upc.admin.simeh.co/wp-content/uploads/2022/08/1280x720-1-2.jpg
END:VEVENT
END:VCALENDAR