BEGIN:VCALENDAR
VERSION:2.0
PRODID:-//Editorial UPC - ECPv5.16.2.1//NONSGML v1.0//EN
CALSCALE:GREGORIAN
METHOD:PUBLISH
X-WR-CALNAME:Editorial UPC
X-ORIGINAL-URL:https://upc.admin.simeh.co
X-WR-CALDESC:Eventos para Editorial UPC
BEGIN:VTIMEZONE
TZID:America/New_York
BEGIN:DAYLIGHT
TZOFFSETFROM:-0500
TZOFFSETTO:-0400
TZNAME:EDT
DTSTART:20230312T070000
END:DAYLIGHT
BEGIN:STANDARD
TZOFFSETFROM:-0400
TZOFFSETTO:-0500
TZNAME:EST
DTSTART:20231105T060000
END:STANDARD
END:VTIMEZONE
BEGIN:VEVENT
DTSTART;TZID=America/New_York:20230706T190000
DTEND;TZID=America/New_York:20230706T200000
DTSTAMP:20260419T100447
CREATED:20230703T155741Z
LAST-MODIFIED:20230707T203638Z
UID:8408-1688670000-1688673600@upc.admin.simeh.co
SUMMARY:1ra Charla informativa: Convocatoria 2023 Nóveles autores por un mundo mejor
DESCRIPTION:  \nEn esta ocasión invitamos a aquellos estudiantes\, docentes o profesionales de distintas procedencias que deseen publicar por primera vez un libro\, producto de su investigación. \nPara esta convocatoria en particular\, buscamos manuscritos de distintas áreas y disciplinas que aporten por lo menos a uno de los objetivos de desarrollo sostenible (ODS). Esto va en línea con nuestra adhesión al pacto de editores denominado SDG Publishers Compact.\, puedes enviar tu proyecto hasta el 25 de septiembre a editorial@upc.edu.pe . \n\n\nRevisa las bases de la convocatoria: editorial.upc.edu.pe/convocatoria-noveles-autores \n  \nRegístrate en el formulario y participa en la sala de Zoom. \nConfirma tu asistencia\n\n\n  \n\n \nVer en pantalla completa \n 
URL:https://upc.admin.simeh.co/evento/1ra-charla-informativa-convocatoria-2023-noveles-autores-por-un-mundo-mejor/
CATEGORIES:Convocatoria,En VIVO,Promoción
ATTACH;FMTTYPE=image/png:https://upc.admin.simeh.co/wp-content/uploads/2023/07/1280x720.png
ORGANIZER;CN="Editorial%20UPC":MAILTO:editorial@upc.edu.pe
END:VEVENT
END:VCALENDAR